BEGIN:VCALENDAR
VERSION:2.0
PRODID:-//ChamberMaster//Event Calendar 2.0//EN
METHOD:PUBLISH
X-PUBLISHED-TTL:P3D
REFRESH-INTERVAL:P3D
CALSCALE:GREGORIAN
BEGIN:VEVENT
DTSTART:20150422T210000Z
DTEND:20150423T000000Z
X-MICROSOFT-CDO-ALLDAYEVENT:FALSE
SUMMARY:Excelsior College Partners in Lifelong Learning
DESCRIPTION:Initiated in 2008\, Excelsior's Partners in Lifelong Learning Award allows the College to draw attention to the importance of lifelong learning while funding scholarships for students in need of financial support to complete their degrees. The event has raised more than $530\,000\, benefiting nearly 450 students from the Capital Region and its surrounding areas. This year\, Excelsior will recognize GE. An industry leader for more than 100 years\, GE supports education and invests in tomorrow's leaders.
X-ALT-DESC;FMTTYPE=text/html:Initiated in 2008\, Excelsior&#39\;s Partners in Lifelong Learning Award allows the College to draw attention to the importance of lifelong learning while funding scholarships for students in need of financial support to complete their degrees. The event has raised more than $530\,000\, benefiting nearly 450 students from the Capital Region and its surrounding areas. This year\, Excelsior will recognize GE. An industry leader for more than 100 years\, GE supports education and invests in tomorrow&#39\;s leaders.
LOCATION:New York State Museum 260 Madison Avenue\, Albany\, New York 12210
UID:e.2254.6682
SEQUENCE:3
DTSTAMP:20260423T214359Z
URL:https://chamber.saratoga.org/events/details/excelsior-college-partners-in-lifelong-learning-04-22-2015-6682
END:VEVENT

END:VCALENDAR
