BEGIN:VCALENDAR
VERSION:2.0
PRODID:-//ChamberMaster//Event Calendar 2.0//EN
METHOD:PUBLISH
X-PUBLISHED-TTL:P3D
REFRESH-INTERVAL:P3D
CALSCALE:GREGORIAN
BEGIN:VEVENT
DTSTART;VALUE=DATE:20160811
DTEND;VALUE=DATE:20160812
TRANSP:TRANSPARENT
X-MICROSOFT-CDO-ALLDAYEVENT:TRUE
SUMMARY:EVERYTHING IN ITS PLACE: THE LIFE & SLIMES OF MARC SUMMERS
DESCRIPTION:Marc Summers is an icon of a generation.  You may know him from his time hosting Nickelodeon's DOUBLE DARE and Food Network's UNWRAPPED\, or as the Producer of hits like DINNER: IMPOSSIBLE and RESTAURANT: IMPOSSIBLE\, but now you get the chance to meet the real Marc Summers   a man who's led a fascinating life of fame and frustration. EVERYTHING IN ITS PLACE is a guided tour through Marc's life\, from an early obsession with magic to his notable television career to his appearance on Oprah announcing his ongoing battle with OCD. Marc stars in this tell-all about his life\, his disorder\, and taking the physical challenge.  Get ready for games\, music\, magic\, and Double Dare!
X-ALT-DESC;FMTTYPE=text/html:Marc Summers is an icon of a generation.&nbsp\; You may know him from his time hosting Nickelodeon&rsquo\;s DOUBLE DARE and Food Network&rsquo\;s UNWRAPPED\, or as the Producer of hits like DINNER: IMPOSSIBLE and RESTAURANT: IMPOSSIBLE\, but now you get the chance to meet the real Marc Summers &ndash\; a man who&rsquo\;s led a fascinating life of fame and frustration. EVERYTHING IN ITS PLACE is a guided tour through Marc&rsquo\;s life\, from an early obsession with magic to his notable television career to his appearance on Oprah announcing his ongoing battle with OCD. Marc stars in this tell-all about his life\, his disorder\, and taking the physical challenge. &nbsp\;Get ready for games\, music\, magic\, and Double Dare!
LOCATION:Charles R. Wood Theatre 207 Glen Street\, Glens Falls 12801
UID:e.2254.17371
SEQUENCE:3
DTSTAMP:20260421T004433Z
URL:https://chamber.saratoga.org/events/details/everything-in-its-place-the-life-slimes-of-marc-summers-08-11-2016-17371
END:VEVENT

END:VCALENDAR
