BEGIN:VCALENDAR
VERSION:2.0
PRODID:-//ChamberMaster//Event Calendar 2.0//EN
METHOD:PUBLISH
X-PUBLISHED-TTL:P3D
REFRESH-INTERVAL:P3D
CALSCALE:GREGORIAN
BEGIN:VEVENT
DTSTART:20160919T170000Z
DTEND:20160919T190000Z
X-MICROSOFT-CDO-ALLDAYEVENT:FALSE
SUMMARY:Evergreen Adult Day Services Open House
DESCRIPTION:Wesley Evergreen Adult Day Services is holding an Open House on September 19th from 1p-3p. Join us for cake\, ice cream and live music by the Blue Billies. Evergreen provides a friendly\, supervised place for your loved one so that you can rest\, go to work\, or fulfill other obligations. Wesley Evergreen Adult Day Services is located at 357 Milton Avenue in Ballston Spa\, NY. Visit http://www.thewesleycommunity.org/senior-living-options/adult-day-services/ or phone 518.691.1443 for more information.
X-ALT-DESC;FMTTYPE=text/html:Wesley Evergreen Adult Day Services is holding an Open House on September 19th from 1p-3p. Join us for cake\, ice cream and live music by the Blue Billies. Evergreen provides a friendly\, supervised place for your loved one so that you can rest\, go to work\, or fulfill other obligations. Wesley Evergreen Adult Day Services is located at 357 Milton Avenue in Ballston Spa\, NY. Visit http://www.thewesleycommunity.org/senior-living-options/adult-day-services/ or phone 518.691.1443 for more information.
LOCATION:Evergreen Adult Day Services 357 Milton Avenue Ballston Spa\, NY
UID:e.2254.19533
SEQUENCE:3
DTSTAMP:20260420T232118Z
URL:https://chamber.saratoga.org/events/details/evergreen-adult-day-services-open-house-19533
END:VEVENT

END:VCALENDAR
