BEGIN:VCALENDAR
VERSION:2.0
PRODID:-//ChamberMaster//Event Calendar 2.0//EN
METHOD:PUBLISH
X-PUBLISHED-TTL:P3D
REFRESH-INTERVAL:P3D
CALSCALE:GREGORIAN
BEGIN:VEVENT
DTSTART:20150723T220000Z
DTEND:20150724T000000Z
X-MICROSOFT-CDO-ALLDAYEVENT:FALSE
SUMMARY:Evening History Stroll
DESCRIPTION:Meet by the flag pole at the visitor center parking lot to join Park Volunteer Dick Farrell on two guided evening strolls exploring the Battles of Saratoga. Caravan to various locations\, then walk up to 1 mile over uneven ground. Please bring water and insect repellent\, and wear sturdy shoes. Event is cancelled if raining.
X-ALT-DESC;FMTTYPE=text/html:Meet by the flag pole at the visitor center parking lot to join Park Volunteer Dick Farrell on two guided evening strolls exploring the Battles of Saratoga. Caravan to various locations\, then walk up to 1 mile over uneven ground. Please bring water and insect repellent\, and wear sturdy shoes. Event&nbsp\;is cancelled if raining.
LOCATION:Saratoga Battlefield Saratoga National Historical Park
UID:e.2254.6186
SEQUENCE:3
DTSTAMP:20260423T040129Z
URL:https://chamber.saratoga.org/events/details/evening-history-stroll-07-23-2015-6186
END:VEVENT

END:VCALENDAR
