BEGIN:VCALENDAR
VERSION:2.0
PRODID:-//ChamberMaster//Event Calendar 2.0//EN
METHOD:PUBLISH
X-PUBLISHED-TTL:P3D
REFRESH-INTERVAL:P3D
CALSCALE:GREGORIAN
BEGIN:VEVENT
DTSTART:20150701T220000Z
DTEND:20150702T000000Z
X-MICROSOFT-CDO-ALLDAYEVENT:FALSE
SUMMARY:Evening Bike Tour
DESCRIPTION:Join a park ranger for these gentle rides along 5-mile sections of the park and enjoy lesser-known stories from the past.  Meet by the flag pole at the visitor center parking lot. Please bring your bike\, water\, and insect repellent.  Helmets required.   Event canceled if raining.
X-ALT-DESC;FMTTYPE=text/html:<span style="line-height: 115%\; font-family: Georgia\, serif\; font-size: 10pt\;">Join a park ranger for these gentle rides along 5-mile sections of the park and enjoy lesser-known stories from the past.&nbsp\; Meet by the flag pole at the visitor center parking lot. Please bring your bike\, water\, and insect repellent.&nbsp\; <strong>Helmets required.</strong>&nbsp\;&nbsp\; </span><em><span style="line-height: 115%\; font-family: Georgia\, serif\; font-size: 10pt\;">Event canceled if raining.</span></em>
LOCATION:Saratoga National Historical Park
UID:e.2254.4907
SEQUENCE:3
DTSTAMP:20260423T040831Z
URL:https://chamber.saratoga.org/events/details/evening-bike-tour-07-01-2015-4907
END:VEVENT

END:VCALENDAR
