BEGIN:VCALENDAR
VERSION:2.0
PRODID:-//ChamberMaster//Event Calendar 2.0//EN
METHOD:PUBLISH
X-PUBLISHED-TTL:P3D
REFRESH-INTERVAL:P3D
CALSCALE:GREGORIAN
BEGIN:VEVENT
DTSTART:20160416T233000Z
DTEND:20160417T020000Z
X-MICROSOFT-CDO-ALLDAYEVENT:FALSE
SUMMARY:Evelyn Glennie in Dreammachine
DESCRIPTION:This performance of The Albany Symphony Orchestra features Evelyn Glennie on percussion. Pieces include: Ravel's Le Tombeau de Couperin Michael Daugherty's Dreammachine Derek Bermel's "Mar de Setembro" Haydn's Symphony No. 103 "Drumroll"
X-ALT-DESC;FMTTYPE=text/html:This performance of The Albany Symphony Orchestra features Evelyn Glennie on percussion. Pieces include: Ravel&#39\;s Le Tombeau de Couperin Michael Daugherty&#39\;s Dreammachine Derek Bermel&#39\;s &quot\;Mar de Setembro&quot\; Haydn&#39\;s Symphony No. 103 &quot\;Drumroll&quot\;
LOCATION:Troy Savings Bank Music Hall 30 Second Street Troy\, NY 12180
UID:e.2254.8301
SEQUENCE:3
DTSTAMP:20260421T163819Z
URL:https://chamber.saratoga.org/events/details/evelyn-glennie-in-dreammachine-04-16-2016-8301
END:VEVENT

END:VCALENDAR
