BEGIN:VCALENDAR
VERSION:2.0
PRODID:-//ChamberMaster//Event Calendar 2.0//EN
METHOD:PUBLISH
X-PUBLISHED-TTL:P3D
REFRESH-INTERVAL:P3D
CALSCALE:GREGORIAN
BEGIN:VEVENT
DTSTART:20150719T200000Z
DTEND:20150719T230000Z
X-MICROSOFT-CDO-ALLDAYEVENT:FALSE
SUMMARY:Enoch Arden
DESCRIPTION:Mr. Mulligan joins forces with acclaimed actor Paul Hecht for a reading of Richard Strauss's rarely performed melodrama for actor and piano\, Enoch Arden\, set to the immortal poetry of Alfred Lord Tennyson.
X-ALT-DESC;FMTTYPE=text/html:Mr. Mulligan joins forces with acclaimed actor Paul Hecht for a reading of Richard Strauss&#39\;s rarely performed melodrama for actor and piano\, Enoch Arden\, set to the immortal poetry of Alfred Lord Tennyson.
LOCATION:The Sembrich\, 4800 Lakeshore Drive\, Bolton Landing\, NY
UID:e.2254.10033
SEQUENCE:3
DTSTAMP:20260423T040509Z
URL:https://chamber.saratoga.org/events/details/enoch-arden-07-19-2015-10033
END:VEVENT

END:VCALENDAR
