BEGIN:VCALENDAR
VERSION:2.0
PRODID:-//ChamberMaster//Event Calendar 2.0//EN
METHOD:PUBLISH
X-PUBLISHED-TTL:P3D
REFRESH-INTERVAL:P3D
CALSCALE:GREGORIAN
BEGIN:VEVENT
DTSTART:20150412T170000Z
DTEND:20150412T200000Z
X-MICROSOFT-CDO-ALLDAYEVENT:FALSE
SUMMARY:EMPTY BOWLS
DESCRIPTION:Select a Handcrafted Bowl created by Skidmore Ceramic Arts. Fill with Soup\, Chili & Bread by Skidmore Chefs. Take the bowl home with you as reminder of folks that have Empty Bowls every week. BID on Silent Auction. LISTEN to music by John Kribs & the Trophy Husbands. Ray O'Conor will present his Book "She Called Him Raymond". ICE CREAM & Fudge by Sundaes Best. All to benefit the WILTON FOOD PANTRY.
X-ALT-DESC;FMTTYPE=text/html:Select a Handcrafted Bowl created by Skidmore Ceramic Arts. Fill with Soup\, Chili &amp\; Bread by Skidmore Chefs. Take the bowl home with you as reminder of folks that have Empty Bowls every week. BID on Silent Auction. LISTEN to music by John Kribs &amp\; the Trophy Husbands. Ray O&#39\;Conor will present his Book &quot\;She Called Him Raymond&quot\;. ICE CREAM &amp\; Fudge by Sundaes Best. All to benefit the WILTON FOOD PANTRY.
LOCATION:Saratoga-WIlton Elks Lodge. Rte 9. WIlton\, NY
UID:e.2254.7682
SEQUENCE:3
DTSTAMP:20260423T180532Z
URL:https://chamber.saratoga.org/events/details/empty-bowls-04-12-2015-7682
END:VEVENT

END:VCALENDAR
