BEGIN:VCALENDAR
VERSION:2.0
PRODID:-//ChamberMaster//Event Calendar 2.0//EN
METHOD:PUBLISH
X-PUBLISHED-TTL:P3D
REFRESH-INTERVAL:P3D
CALSCALE:GREGORIAN
BEGIN:VEVENT
DTSTART:20161023T150000Z
DTEND:20161023T180000Z
X-MICROSOFT-CDO-ALLDAYEVENT:FALSE
SUMMARY:Embassy Suites "Saratoga Chic" Bridal Show
DESCRIPTION:You are invited to experience the premier Embassy Suites Bridal Show\, "Saratoga Chic\," on Sunday\, October 23 from 11 to 2 at the Embassy Suites by Hilton\, 86 Congress Street in Saratoga Springs. Join us for a day dedicated to you! Dozens of wedding professionals will be gathered in one space to help you with all the details of planning your wedding day. You won't want to miss this premier opportunity to see the chic Embassy Suites by Hilton in its wedding d cor splendor and enjoy tastings\, giveaways and fun. Complimentary admission.
X-ALT-DESC;FMTTYPE=text/html:You are invited to experience the premier Embassy Suites Bridal Show\, &quot\;Saratoga Chic\,&quot\; on Sunday\, October 23 from 11 to 2 at the Embassy Suites by Hilton\, 86 Congress Street in Saratoga Springs. Join us for a day dedicated to you! Dozens of wedding professionals will be gathered in one space to help you with all the details of planning your wedding day. You won&#39\;t want to miss this premier opportunity to see the chic Embassy Suites by Hilton in its wedding d&eacute\;cor splendor and enjoy tastings\, giveaways and fun. Complimentary admission.
LOCATION:Embassy Suites Saratoga Springs
UID:e.2254.17022
SEQUENCE:3
DTSTAMP:20260420T214848Z
URL:https://chamber.saratoga.org/events/details/embassy-suites-saratoga-chic-bridal-show-10-23-2016-17022
END:VEVENT

END:VCALENDAR
