BEGIN:VCALENDAR
VERSION:2.0
PRODID:-//ChamberMaster//Event Calendar 2.0//EN
METHOD:PUBLISH
X-PUBLISHED-TTL:P3D
REFRESH-INTERVAL:P3D
CALSCALE:GREGORIAN
BEGIN:VEVENT
DTSTART:20150531T110000Z
DTEND:20150531T133000Z
X-MICROSOFT-CDO-ALLDAYEVENT:FALSE
SUMMARY:Eighth Annual Cantina Kids Fun Run! - 05/31/2015
DESCRIPTION:An athletic event for families right in downtown Saratoga Springs\n\nSave the date for the Eighth Annual Cantina Kids Fun Run!\n\nSunday\, May 31\, 2015\n\nCongress Park in Saratoga Springs\n\nThe Cantina Kids Fun Run is an athletic event for the whole family\, right in downtown Saratoga Springs\, that benefits pediatric emergency and family support services at Saratoga Hospital and the Saratoga Community Health Center.\n\nLast year\, we raised over $48\,000 thanks to the generous support from our sponsors\, participants and volunteers.\n\nPlease check back soon for more details about the 2015 Cantina Kids Fun Run.\n\nHave questions?\n\nCall or e-mail Klare Ingram at 518-583-8765 or kingram@saratogahospital.org.
X-ALT-DESC;FMTTYPE=text/html:<p>An athletic event for families right in downtown Saratoga Springs</p>\n\n<h1><strong>Save the date for the Eighth Annual Cantina Kids Fun Run!</strong></h1>\n\n<h1><strong>Sunday\, May 31\, 2015</strong></h1>\n\n<h1><strong>Congress Park in Saratoga Springs</strong></h1>\n\n<p style="text-align: left\;">The Cantina Kids Fun Run is an athletic event for the whole family\, right in downtown Saratoga Springs\, that benefits pediatric emergency and family support services at Saratoga Hospital and the Saratoga Community Health Center.</p>\n\n<p style="text-align: left\;">Last year\, we raised over $48\,000 thanks to the generous support from our sponsors\, participants and volunteers.</p>\n\n<p style="text-align: left\;">Please check back soon for more details about the 2015 Cantina Kids Fun Run.</p>\n\n<h3 style="text-align: left\;">Have questions?</h3>\n\n<h3 style="text-align: left\;">Call or e-mail Klare Ingram at 518-583-8765 or <a href="mailto:kingram@saratogacare.org">kingram@saratogahospital.org</a>.</h3>\n
LOCATION:Congress Park in Saratoga Springs
UID:e.2254.1207
SEQUENCE:3
DTSTAMP:20260423T170952Z
URL:https://chamber.saratoga.org/events/details/eighth-annual-cantina-kids-fun-run-05-31-2015-05-31-2015-1207
END:VEVENT

END:VCALENDAR
