BEGIN:VCALENDAR
VERSION:2.0
PRODID:-//ChamberMaster//Event Calendar 2.0//EN
METHOD:PUBLISH
X-PUBLISHED-TTL:P3D
REFRESH-INTERVAL:P3D
CALSCALE:GREGORIAN
BEGIN:VEVENT
DTSTART:20160326T140000Z
DTEND:20160326T170000Z
X-MICROSOFT-CDO-ALLDAYEVENT:FALSE
SUMMARY:Egg Stravaganza
DESCRIPTION:Come to Congress park for a fun day of hunting for eggs\, playing carnival games\, eatting ice cream\, hearing an Easter story\, getting your face painted and nails done and a picture with the Easter Bunny! Silent Auction Easter baskets available to win too! RAIN DATE EASTER SUNDAY\, 3/27 FROM 10-1!
X-ALT-DESC;FMTTYPE=text/html:<span class="_fbReactionComponent__eventDetailsContent fsl">Come to Congress park for a fun day of hunting for eggs\, playing carnival games\, eatting ice cream\, hearing an Easter story\, getting your face painted and nails done and a picture with the Easter Bunny! Silent Auction Easter baskets available to win too! RAIN DATE EASTER SUNDAY\, 3/27 FROM 10-1!</span>
LOCATION:Congress Park Saratoga Springs\, New York 12866
UID:e.2254.15284
SEQUENCE:3
DTSTAMP:20260422T003025Z
URL:https://chamber.saratoga.org/events/details/egg-stravaganza-03-26-2016-15284
END:VEVENT

END:VCALENDAR
