BEGIN:VCALENDAR
VERSION:2.0
PRODID:-//ChamberMaster//Event Calendar 2.0//EN
METHOD:PUBLISH
X-PUBLISHED-TTL:P3D
REFRESH-INTERVAL:P3D
CALSCALE:GREGORIAN
BEGIN:VEVENT
DTSTART:20160327T144500Z
DTEND:20160327T160000Z
X-MICROSOFT-CDO-ALLDAYEVENT:FALSE
SUMMARY:Easter Service to be Led by New Pastor
DESCRIPTION:the Rev. Kate Forer to be the next senior pastor. Forer will be leading the Easter service on March 27th. The public is invited to join in the PNECC Easter celebration at 10:45 a.m. Most recently\, Forer served as Assoc. Minister of the Umstead Park United Church of Christ in Raleigh\, NC. From 2008-2010\, she was Assoc. Pastor of the First Congregational Church in Old Greenwich\, CT. Forer is originally from the Boston area. She earned a Master of Divinity in 2008 from Duke Divinity School\, and a B.A. in 2002 from Sarah Lawrence College.
X-ALT-DESC;FMTTYPE=text/html:the Rev. Kate Forer to be the next senior pastor. Forer will be leading the Easter service on March 27th. The public is invited to join in the PNECC Easter celebration at 10:45 a.m. Most recently\, Forer served as Assoc. Minister of the Umstead Park United Church of Christ in Raleigh\, NC. From 2008-2010\, she was Assoc. Pastor of the First Congregational Church in Old Greenwich\, CT. Forer is originally from the Boston area. She earned a Master of Divinity in 2008 from Duke Divinity School\, and a B.A. in 2002 from Sarah Lawrence College.
LOCATION:The Presbyterian-New England Congregational Church\, 24 Circular St.\, Saratoga Springs.
UID:e.2254.15283
SEQUENCE:3
DTSTAMP:20260422T004157Z
URL:https://chamber.saratoga.org/events/details/easter-service-to-be-led-by-new-pastor-03-27-2016-15283
END:VEVENT

END:VCALENDAR
