BEGIN:VCALENDAR
VERSION:2.0
PRODID:-//ChamberMaster//Event Calendar 2.0//EN
METHOD:PUBLISH
X-PUBLISHED-TTL:P3D
REFRESH-INTERVAL:P3D
CALSCALE:GREGORIAN
BEGIN:VEVENT
DTSTART:20160326T140000Z
DTEND:20160326T170000Z
X-MICROSOFT-CDO-ALLDAYEVENT:FALSE
SUMMARY:Easter Bunny Visits the Market!
DESCRIPTION:The Easter Bunny knows where to find the freshest carrots in town...at the farmers' market! He will pay a special visit to the farmers' market from 10 a.m. to 1 p.m. on Saturday\, March 26. The market will offer FREE professional portrait photos to be taken with our fluffy friend! The Saratoga Springs Public Library will also join us to offer a free\, fun activity for children of all ages. And\, vendors will offer a variety of delicious\, local goods.
X-ALT-DESC;FMTTYPE=text/html:The Easter Bunny knows where to find the freshest carrots in town...at the farmers&#39\; market! He will pay a special visit to the farmers&#39\; market from 10 a.m. to 1 p.m. on Saturday\, March 26. The market will offer FREE professional portrait photos to be taken with our fluffy friend! The Saratoga Springs Public Library will also join us to offer a free\, fun activity for children of all ages. And\, vendors will offer a variety of delicious\, local goods.
LOCATION:Saratoga Farmers' Market\, Lincoln Bathhouse\, Saratoga Spa State Park\, 65 South Broadway\, Saratoga Springs\, NY 12866
UID:e.2254.14988
SEQUENCE:3
DTSTAMP:20260422T003506Z
URL:https://chamber.saratoga.org/events/details/easter-bunny-visits-the-market-03-26-2016-14988
END:VEVENT

END:VCALENDAR
