BEGIN:VCALENDAR
VERSION:2.0
PRODID:-//ChamberMaster//Event Calendar 2.0//EN
METHOD:PUBLISH
X-PUBLISHED-TTL:P3D
REFRESH-INTERVAL:P3D
CALSCALE:GREGORIAN
BEGIN:VEVENT
DTSTART:20160615T210000Z
DTEND:20160616T010000Z
X-MICROSOFT-CDO-ALLDAYEVENT:FALSE
SUMMARY:E.P. Carrillo Cigar Event & Wine Tasting Event
DESCRIPTION:E.P. Carrillo Cigar event in tandem with a wine tasting event. Two perfect pairings for a wonderful night. Ladies stop in and enjoy some wine while browsing for that special man in your life.
X-ALT-DESC;FMTTYPE=text/html:<div style="text-align: center\;"><span style="background-color:rgb(255\, 255\, 255)\; font-family:arial\,sans-serif\; font-size:small">E.P. Carrillo Cigar event in tandem with a wine tasting event. Two perfect pairings for a wonderful night. Ladies stop in and enjoy some wine while browsing for that special man in your life.&nbsp\;</span></div>\n
LOCATION:Queensbury Cigar & Pipe 1036 State Route 9 Queensbury\, New York 12804
UID:e.2254.16988
SEQUENCE:3
DTSTAMP:20260421T080411Z
URL:https://chamber.saratoga.org/events/details/e-p-carrillo-cigar-event-wine-tasting-event-06-15-2016-16988
END:VEVENT

END:VCALENDAR
