BEGIN:VCALENDAR
VERSION:2.0
PRODID:-//ChamberMaster//Event Calendar 2.0//EN
METHOD:PUBLISH
X-PUBLISHED-TTL:P3D
REFRESH-INTERVAL:P3D
CALSCALE:GREGORIAN
BEGIN:VEVENT
DTSTART:20160802T160000Z
DTEND:20160802T210000Z
X-MICROSOFT-CDO-ALLDAYEVENT:FALSE
SUMMARY:Drew Estate BBQ with Pedro Gomez
DESCRIPTION:Come meet Drew Estate's factory spokesperson Pedro Gomez. Learn the secrets behind Drew Estate Cigars while enjoying BBQ and specials on all Drew Estate products. This is a very special chance to receive a Liga Privada Velvet Rat\, with qualifying purchase!
X-ALT-DESC;FMTTYPE=text/html:<span style="background-color:rgb(255\, 255\, 255)\; font-family:arial\,sans-serif\; font-size:12px">Come meet Drew Estate&#39\;s factory spokesperson Pedro Gomez. Learn the secrets behind Drew Estate Cigars while enjoying BBQ and specials on all Drew Estate products. This is a very special chance to receive a Liga Privada Velvet Rat\, with qualifying purchase!</span>
LOCATION:1036 State Route 9 Queensbury\, New York 12804
UID:e.2254.17244
SEQUENCE:3
DTSTAMP:20260421T003335Z
URL:https://chamber.saratoga.org/events/details/drew-estate-bbq-with-pedro-gomez-08-02-2016-17244
END:VEVENT

END:VCALENDAR
