BEGIN:VCALENDAR
VERSION:2.0
PRODID:-//ChamberMaster//Event Calendar 2.0//EN
METHOD:PUBLISH
X-PUBLISHED-TTL:P3D
REFRESH-INTERVAL:P3D
CALSCALE:GREGORIAN
BEGIN:VEVENT
DTSTART:20150926T140000Z
DTEND:20150926T160000Z
X-MICROSOFT-CDO-ALLDAYEVENT:FALSE
SUMMARY:Dress a Girl Service Project
DESCRIPTION:Part of Saratoga Peace Week. Children and adults can hand sew embellishments and pockets to dresses that will be sent to orphan girls in Africa. Free lunch will follow at noon\, followed by concert
X-ALT-DESC;FMTTYPE=text/html:Part of Saratoga Peace Week. Children and adults can hand sew embellishments and pockets to dresses that will be sent to orphan girls in Africa. Free lunch will follow at noon\, followed by concert
LOCATION:Saratoga Public Library (49 Henry St)
UID:e.2254.12340
SEQUENCE:3
DTSTAMP:20260423T005719Z
URL:https://chamber.saratoga.org/events/details/dress-a-girl-service-project-09-26-2015-12340
END:VEVENT

END:VCALENDAR
