BEGIN:VCALENDAR
VERSION:2.0
PRODID:-//ChamberMaster//Event Calendar 2.0//EN
METHOD:PUBLISH
X-PUBLISHED-TTL:P3D
REFRESH-INTERVAL:P3D
CALSCALE:GREGORIAN
BEGIN:VEVENT
DTSTART;VALUE=DATE:20160401
DTEND;VALUE=DATE:20160501
TRANSP:TRANSPARENT
X-MICROSOFT-CDO-ALLDAYEVENT:TRUE
SUMMARY:Draw On AND On
DESCRIPTION:The Hyde Collection will partner with area restaurants to encourage creativity in our community. Art supplies\, provided by The Hyde\, will be available at area restaurants. Just draw us a picture and help get Glens Falls creative juices flowing.   Then bring us your drawing for display at The Hyde during the month of June and receive $1 off admission.
X-ALT-DESC;FMTTYPE=text/html:The Hyde Collection will partner with area restaurants to encourage creativity in our community. Art supplies\, provided by The Hyde\, will be available at area restaurants. Just draw us a picture and help get Glens Falls creative juices flowing. &nbsp\; Then bring us your drawing for display at The Hyde during the month of June and receive $1 off admission.
LOCATION:The Hyde Collection / Area Restaurants
UID:e.2254.15649
SEQUENCE:3
DTSTAMP:20260421T163552Z
URL:https://chamber.saratoga.org/events/details/draw-on-and-on-04-01-2016-15649
END:VEVENT

END:VCALENDAR
