BEGIN:VCALENDAR
VERSION:2.0
PRODID:-//ChamberMaster//Event Calendar 2.0//EN
METHOD:PUBLISH
X-PUBLISHED-TTL:P3D
REFRESH-INTERVAL:P3D
CALSCALE:GREGORIAN
BEGIN:VEVENT
DTSTART:20150524T113000Z
DTEND:20150524T160000Z
X-MICROSOFT-CDO-ALLDAYEVENT:FALSE
SUMMARY:Dragon's Pride Run
DESCRIPTION:Registration is NOW OPEN!\n\n\n\nThe 6th Annual\n\nDragon's Pride Run\n\nSunday May 24th\, 2015\n\n9am - 1mile fun run & 9:30am - 5K run (certified)\n\nCome out in your red\, white\, & blue!\n\n \n\nNote: Bib pickup and race-day registration start on May 24th at 7:30am \n\nFor more information about the race\, contact:\n\nTracy Ford - tracydford65@gmail.com\n\n\n\n\n\n.old_text_widget img {max-width: 100%\;height: auto\;}\n\n\n\nWhy we do this event...\n\nThe goal of the Dragon's Pride Run is to promote a life-long love of health and fitness in kids of all ages. Why is this important?  A Harvard study in March 2012 showed that if adults become non-obese by 2020\, the life expectancy in the US would increase by almost four years from that fact alone.  When children see a parent or loved one having fun exercising - they want to get in on the action.  Fun and fitness are contagious!\n\nThanks to the generosity of previous year's sponsors\, The Division Street PTA has funded a rock climbing wall in the school gymnasium and sponsored the school-wide Field Day.  Our goal in 2015 is to provide equipment for PE\, start a CD for the playground and sponsor the kids' most anticipated day of the year - Field Day!
X-ALT-DESC;FMTTYPE=text/html:<div class="sys_txt old_text_widget clear_fix" id="I3_sys_txt" style="margin: 0px\; padding: 0px\;">\n<h3><font color="#333333" face="PT Sans" size="5"><u><a href="https://runsignup.com/Race/Register/?raceId=6743" target="_blank">Registration is NOW OPEN!</a></u></font></h3>\n\n<div style="margin: 0px\; padding: 0px\; text-align: center\; color: rgb(51\, 0\, 0)\; font-size: 12px\;"><br />\n<span style="font-size: 12px\;"><span style="font-family: &quot\;PT Sans&quot\;\; font-weight: normal\; border-collapse: collapse\; border-spacing: 2px\;"><font color="#000066" style="margin: 0px\; padding: 0px\;"><b style="margin: 0px\; padding: 0px\;">The 6th Annual</b></font></span></span></div>\n\n<div style="margin: 0px\; padding: 0px\; text-align: center\; color: rgb(51\, 0\, 0)\; font-size: 12px\;"><span style="font-size: 12px\;"><span style="font-family: &quot\;PT Sans&quot\;\; font-weight: normal\; border-collapse: collapse\; border-spacing: 2px\;"><font color="#000066" style="margin: 0px\; padding: 0px\;"><span style="margin: 0px\; padding: 0px\;"><b style="margin: 0px\; padding: 0px\;">Dragon&#39\;s Pride Run</b></span></font></span></span></div>\n\n<div style="margin: 0px\; padding: 0px\; text-align: center\; font-size: 12px\;"><span style="font-size: 12px\;"><span style="font-family: &quot\;PT Sans&quot\;\; font-weight: normal\; border-collapse: collapse\; border-spacing: 2px\;"><b><font color="#0000cc" style="margin: 0px\; padding: 0px\;"><span style="margin: 0px\; padding: 0px\;">Sunday May 24th\, 2015</span></font></b></span></span></div>\n\n<div style="margin: 0px\; padding: 0px\; text-align: center\; font-size: 12px\;"><span style="font-size: 12px\;"><span style="font-family: &quot\;PT Sans&quot\;\; font-weight: normal\; border-collapse: collapse\; border-spacing: 2px\;"><b><font style="margin: 0px\; padding: 0px\;"><span style="margin: 0px\; padding: 0px\;"><font color="#0000cc">9am - 1mile fun run &amp\; 9:30am - 5K run (certified)</font><br />\n<i><font color="#006600">Come out in your </font><font color="#990000">red</font><font color="#006600">\, </font><font color="#ffffff" style="background-color: rgb(0\, 0\, 204)\;">white</font><font color="#006600">\, &amp\; </font><font color="#000099">blue</font><font color="#006600">!</font></i></span></font></b></span></span></div>\n\n<div style="margin: 0px\; padding: 0px\; text-align: center\;">&nbsp\;</div>\n\n<div style="margin: 0px\; padding: 0px\; text-align: center\;"><span style="font-size: 12px\;"><span style="font-family: &quot\;PT Sans&quot\;\; font-weight: normal\; border-collapse: collapse\; border-spacing: 2px\;"><font color="#000066">Note: Bib pickup and race-day registration start on May 24th at 7:30am&nbsp\;</font></span></span></div>\n\n<div style="margin: 0px\; padding: 0px\; text-align: center\;"><span style="font-size: 12px\;"><span style="font-family: &quot\;PT Sans&quot\;\; font-weight: normal\; border-collapse: collapse\; border-spacing: 2px\;"><span style="line-height: 22px\; font-family: &quot\;Lucida Sans Unicode&quot\;\;"><font color="#000066">For more information about the race\, contact:</font></span></span></span></div>\n\n<div style="margin: 0px\; padding: 0px\; text-align: center\;"><span style="font-size: 12px\;"><span style="font-family: &quot\;PT Sans&quot\;\; font-weight: normal\; border-collapse: collapse\; border-spacing: 2px\;"><span style="line-height: 22px\; font-family: &quot\;Lucida Sans Unicode&quot\;\;"><font color="#000066">Tracy Ford</font></span><span style="color: rgb(51\, 51\, 255)\; line-height: 22px\; font-family: &quot\;Lucida Sans Unicode&quot\;\;"> - </span><a href="mailto:tracydford65@gmail.com" style="line-height: 22px\; font-family: &quot\;Lucida Sans Unicode&quot\;\; font-size: medium\;" target="_blank"><font color="#333333">tracydford65@gmail.com</font></a></span></span></div>\n</div>\n\n<div class="zone_bottom">\n<div id="sys_region_1">\n<div class="Text_Default" id="I7" style="margin: 0px 15px\; clear: both\; display: block\;"><span style="font-size: 12px\;">\n<style type="text/css">.old_text_widget img {max-width: 100%\;height: auto\;}\n</style>\n</span>\n<div class="sys_txt old_text_widget clear_fix" style="margin: 0px\; padding: 0px\;">\n<h3><span style="font-size: 12px\;"><font color="#000099">Why we do this event...</font></span></h3>\n\n<p><span style="font-size: 12px\;"><font class="size12 LucidaSansUnicode12" color="#000099" face="'Lucida Grande'\, 'Lucida Sans Unicode'\, sans-serif"><font style="background-color: rgb(255\, 255\, 255)\;">The goal of the Dragon&#39\;s Pride Run is to promote a life-long love of health and fitness in kids of all ages. Why is this important?&nbsp\; A Harvard study in March 2012 showed that if adults become non-obese by 2020\, the life expectancy in the US would increase by almost four years from that fact alone.&nbsp\; When children see a parent or loved one having fun exercising - they want to get in on the action.&nbsp\; Fun and fitness are contagious!</font></font></span></p>\n\n<p><span style="font-size: 12px\;"><font class="size12 LucidaSansUnicode12" color="#000099" face="'Lucida Grande'\, 'Lucida Sans Unicode'\, sans-serif"><font style="background-color: rgb(255\, 255\, 255)\;">Thanks to the generosity of previous year&#39\;s sponsors\, The Division Street PTA has funded a rock climbing wall in the school gymnasium and sponsored the school-wide Field Day.&nbsp\; Our goal in 2015 is to provide equipment for PE\, start a CD for the playground and sponsor the kids&#39\; most anticipated day of the year - <b>Field Day</b>!</font></font><font color="#000099"> </font></span></p>\n</div>\n\n<div class="sys_txt old_text_widget clear_fix" id="I7_sys_txt" style="margin: 0px\; padding: 0px\;">\n<p>&nbsp\;</p>\n</div>\n</div>\n</div>\n</div>\n
LOCATION:
UID:e.2254.7699
SEQUENCE:3
DTSTAMP:20260423T195028Z
URL:https://chamber.saratoga.org/events/details/dragon-s-pride-run-05-24-2015-7699
END:VEVENT

END:VCALENDAR
