BEGIN:VCALENDAR
VERSION:2.0
PRODID:-//ChamberMaster//Event Calendar 2.0//EN
METHOD:PUBLISH
X-PUBLISHED-TTL:P3D
REFRESH-INTERVAL:P3D
CALSCALE:GREGORIAN
BEGIN:VEVENT
DTSTART:20160521T130000Z
DTEND:20160521T200000Z
X-MICROSOFT-CDO-ALLDAYEVENT:FALSE
SUMMARY:Double Wine Basket with Barbara Boughton. #964-0521.
DESCRIPTION:Woven on an oak D-handle\, 5 inches wide by 12 inches tall at the handle\, this basket will hold two bottles of wine\, separated by a figure-eight woven across the handle inside the basket. A solid bottom ensures durability and a choice of color and weave pattern creates a unique piece.
X-ALT-DESC;FMTTYPE=text/html:<pre>\n<span style="font-size:12pt"><span style="font-family:arial\,sans-serif"><span style="color:black">Woven on an oak D-handle\, 5 inches wide by 12 inches tall at the handle\, this basket will hold two bottles of wine\, separated by a figure-eight woven across the handle inside the basket. A solid bottom ensures durability and a choice of color and weave pattern creates a unique piece.</span></span></span></pre>\n
LOCATION:Adirondack Folk School 51 Main Street Lake Luzerne\, NY 12846
UID:e.2254.15592
SEQUENCE:3
DTSTAMP:20260421T160545Z
URL:https://chamber.saratoga.org/events/details/double-wine-basket-with-barbara-boughton-964-0521-05-21-2016-15592
END:VEVENT

END:VCALENDAR
