BEGIN:VCALENDAR
VERSION:2.0
PRODID:-//ChamberMaster//Event Calendar 2.0//EN
METHOD:PUBLISH
X-PUBLISHED-TTL:P3D
REFRESH-INTERVAL:P3D
CALSCALE:GREGORIAN
BEGIN:VEVENT
DTSTART:20160506T220000Z
DTEND:20160507T030000Z
X-MICROSOFT-CDO-ALLDAYEVENT:FALSE
SUMMARY:Double H Ranch Chef's Dinner
DESCRIPTION:Join the Double H Ranch for an unforgettable evening featuring renowned regional chefs\, fine wine\, craft beers\, spirits\, silent and live auctions. Music by Garland Nelson & Soul Session.
X-ALT-DESC;FMTTYPE=text/html:Join the Double H Ranch for an unforgettable evening featuring renowned regional chefs\, fine wine\, craft beers\, spirits\, silent and live auctions. Music by Garland Nelson &amp\; Soul Session.
LOCATION:The Sagamore Resort
UID:e.2254.16082
SEQUENCE:3
DTSTAMP:20260421T180549Z
URL:https://chamber.saratoga.org/events/details/double-h-ranch-chef-s-dinner-05-06-2016-16082
END:VEVENT

END:VCALENDAR
