BEGIN:VCALENDAR
VERSION:2.0
PRODID:-//ChamberMaster//Event Calendar 2.0//EN
METHOD:PUBLISH
X-PUBLISHED-TTL:P3D
REFRESH-INTERVAL:P3D
CALSCALE:GREGORIAN
BEGIN:VEVENT
DTSTART:20160416T130000Z
DTEND:20160416T200000Z
X-MICROSOFT-CDO-ALLDAYEVENT:FALSE
SUMMARY:Double-Bottomed Bushel Basket with Barbara Boughton. #953-0416.
DESCRIPTION:This is a great class for a first-time weaver\, as well as for those who would like to learn some new weave patterns to create a unique piece. Techniques discussed will include arrow weave\, four-rod wale\, and twill\, as well as using color to create pattern. Students will begin by weaving a double-bottomed base. As they weave up the sides with the stop-start method\, students may then choose to incorporate a variety of color and pattern which interests them. The basket is finished with hand-carved bushel-basket handles. With a double-bottomed base\, this is a very sturdy and functional basket\, as well as uniquely yours. Dimensions approx. 10"diameter\, 8"high. NOTE: Must be 12 years or older.
X-ALT-DESC;FMTTYPE=text/html:This is a great class for a first-time weaver\, as well as for those who would like to learn some new weave patterns to create a unique piece. Techniques discussed will include arrow weave\, four-rod wale\, and twill\, as well as using color to create pattern. Students will begin by weaving a double-bottomed base. As they weave up the sides with the stop-start method\, students may then choose to incorporate a variety of color and pattern which interests them. The basket is finished with hand-carved bushel-basket handles. With a double-bottomed base\, this is a very sturdy and functional basket\, as well as uniquely yours. Dimensions approx. 10&quot\;diameter\, 8&quot\;high. NOTE: Must be 12 years or older.
LOCATION:Adirondack Folk School\, 51 Main Street\, Lake Luzerne\, NY 12846
UID:e.2254.14997
SEQUENCE:3
DTSTAMP:20260421T164159Z
URL:https://chamber.saratoga.org/events/details/double-bottomed-bushel-basket-with-barbara-boughton-953-0416-04-16-2016-14997
END:VEVENT

END:VCALENDAR
