BEGIN:VCALENDAR
VERSION:2.0
PRODID:-//ChamberMaster//Event Calendar 2.0//EN
METHOD:PUBLISH
X-PUBLISHED-TTL:P3D
REFRESH-INTERVAL:P3D
CALSCALE:GREGORIAN
BEGIN:VEVENT
DTSTART:20161019T120000Z
DTEND:20161019T140000Z
X-MICROSOFT-CDO-ALLDAYEVENT:FALSE
SUMMARY:DOL’s New Overtime Rule: What You Need To Know and Do To Be Ready
DESCRIPTION:The U.S. Department of Labor's revised Regulations pertaining to the "white collar" overtime exemptions go into effect on December 1\, 2016. This Breakfast Briefing will provide detailed guidance on the Regulations and offer practical steps for compliance. This Breakfast Briefing will address: The overtime changes that employers need to know\; The new credit for bonuses and commissions\; Steps that employers should take now\; and Best practices for complying with the changes.
X-ALT-DESC;FMTTYPE=text/html:The U.S. Department of Labor&rsquo\;s revised Regulations pertaining to the &ldquo\;white collar&rdquo\; overtime exemptions go into effect on December 1\, 2016. This Breakfast Briefing will provide detailed guidance on the Regulations and offer practical steps for compliance. This Breakfast Briefing will address: The overtime changes that employers need to know\; The new credit for bonuses and commissions\; Steps that employers should take now\; and Best practices for complying with the changes.
LOCATION:Saratoga National Golf Club 458 Union Avenue Saratoga Springs\, NY 12866
UID:e.2254.20696
SEQUENCE:3
DTSTAMP:20260420T215801Z
URL:https://chamber.saratoga.org/events/details/dol-s-new-overtime-rule-what-you-need-to-know-and-do-to-be-ready-20696
END:VEVENT

END:VCALENDAR
