BEGIN:VCALENDAR
VERSION:2.0
PRODID:-//ChamberMaster//Event Calendar 2.0//EN
METHOD:PUBLISH
X-PUBLISHED-TTL:P3D
REFRESH-INTERVAL:P3D
CALSCALE:GREGORIAN
BEGIN:VEVENT
DTSTART:20160611T230000Z
DTEND:20160612T030000Z
X-MICROSOFT-CDO-ALLDAYEVENT:FALSE
SUMMARY:Dixie Chicks "DCX World Tour MMXVI"
DESCRIPTION:Dixie Chicks "DCX World Tour MMXVI"\n\nFor more information & to purchase tickets visit www.livenation.com
X-ALT-DESC;FMTTYPE=text/html:<p>Dixie Chicks &quot\;DCX World Tour MMXVI&quot\;<br />\nFor more information &amp\; to purchase tickets&nbsp\;visit www.livenation.com&nbsp\;</p>\n
LOCATION:Saratoga Performing Arts Center (SPAC) 108 Avenue of the Pines Saratoga Springs\, NY 12866
UID:e.2254.14257
SEQUENCE:3
DTSTAMP:20260421T080611Z
URL:https://chamber.saratoga.org/events/details/dixie-chicks-dcx-world-tour-mmxvi-06-11-2016-14257
END:VEVENT

END:VCALENDAR
