BEGIN:VCALENDAR
VERSION:2.0
PRODID:-//ChamberMaster//Event Calendar 2.0//EN
METHOD:PUBLISH
X-PUBLISHED-TTL:P3D
REFRESH-INTERVAL:P3D
CALSCALE:GREGORIAN
BEGIN:VEVENT
DTSTART:20150314T180000Z
DTEND:20150314T210000Z
X-MICROSOFT-CDO-ALLDAYEVENT:FALSE
SUMMARY:Distant Voices With Erica Washburn and the New England Conservatory Chamber Singers
DESCRIPTION:Saturday\, March 14 @ 2 p.m.\nWe are excited to welcome the New England Conservatory Chamber Singers for this exciting concert of great choral and orchestral music.\n\nCorigliano: Fern Hill\n\nBartok: Concerto for Orchestra\n\nTime: 2 p.m.\n\nLocation: Arthur Zankel Music Center\, Skidmore College (handicapped accessible).\n\nBox office: Opens at 1 p.m. Tickets are available at the door or may be purchased by contacting the Symphony office at (518) 793-1348.
X-ALT-DESC;FMTTYPE=text/html:Saturday\, March 14 @ 2 p.m.\n<p>We are excited to welcome the New England Conservatory Chamber Singers for this exciting concert of great choral and orchestral music.</p>\n\n<p><strong>Corigliano:&nbsp\;Fern Hill</strong></p>\n\n<p><strong>Bartok:&nbsp\;Concerto for Orchestra</strong></p>\n\n<p>Time: 2&nbsp\;p.m.<br />\nLocation: Arthur Zankel Music Center\, Skidmore College&nbsp\;(handicapped accessible).<br />\nBox office: Opens at 1&nbsp\;p.m. Tickets are available at the door or may be purchased by contacting the Symphony office at (518) 793-1348.</p>\n
LOCATION:Arthur Zankel Music Center\, Skidmore College Saratoga Springs
UID:e.2254.6678
SEQUENCE:3
DTSTAMP:20260423T214717Z
URL:https://chamber.saratoga.org/events/details/distant-voices-with-erica-washburn-and-the-new-england-conservatory-chamber-singers-03-14-2015-6678
END:VEVENT

END:VCALENDAR
