BEGIN:VCALENDAR
VERSION:2.0
PRODID:-//ChamberMaster//Event Calendar 2.0//EN
METHOD:PUBLISH
X-PUBLISHED-TTL:P3D
REFRESH-INTERVAL:P3D
CALSCALE:GREGORIAN
BEGIN:VEVENT
DTSTART:20161021T223000Z
DTEND:20161022T013000Z
X-MICROSOFT-CDO-ALLDAYEVENT:FALSE
SUMMARY:Dish It Out For Kids Fundraiser
DESCRIPTION:Dish It Out for Kids is a fundraiser to support the Capital Region Office of the National Center for Missing and Exploited Children. The event features tapas style dishes expertly prepared by leading regional chefs who will be competing for the Dish It Out Grand Culinary Awards "Judges Choice" and "People's Choice" Award in appetizers\, entr e\, and dessert categories. Local celebrities will be asked to participate and will be paired with specific chefs coaxing votes or helping their chef serve or prep their dishes. This is a one-of-a-kind dining adventure with fine wine pairings and auctions you won't want to miss.
X-ALT-DESC;FMTTYPE=text/html:Dish It Out for Kids is a fundraiser to support the Capital Region Office of the National Center for Missing and Exploited Children. The event features tapas style dishes expertly prepared by leading regional chefs who will be competing for the Dish It Out Grand Culinary Awards &ldquo\;Judges Choice&rdquo\; and &ldquo\;People&rsquo\;s Choice&rdquo\; Award in appetizers\, entr&eacute\;e\, and dessert categories. Local celebrities will be asked to participate and will be paired with specific chefs coaxing votes or helping their chef serve or prep their dishes. This is a one-of-a-kind dining adventure with fine wine pairings and auctions you won&rsquo\;t want to miss.
LOCATION:Saratoga Springs City Center\, 522 Broadway\, Saratoga Springs\, NY 12866
UID:e.2254.17242
SEQUENCE:3
DTSTAMP:20260420T231846Z
URL:https://chamber.saratoga.org/events/details/dish-it-out-for-kids-fundraiser-10-21-2016-17242
END:VEVENT

END:VCALENDAR
