BEGIN:VCALENDAR
VERSION:2.0
PRODID:-//ChamberMaster//Event Calendar 2.0//EN
METHOD:PUBLISH
X-PUBLISHED-TTL:P3D
REFRESH-INTERVAL:P3D
CALSCALE:GREGORIAN
BEGIN:VEVENT
DTSTART:20140914T150000Z
DTEND:20140914T170000Z
X-MICROSOFT-CDO-ALLDAYEVENT:FALSE
SUMMARY:Discovery Day: Summer Shadows - 09/14/2014
DESCRIPTION:Tour and activities for all agesTour and activity for all ages beginning at 1pm.  Closing day family friendly tours of the summer exhibitions followed by summer memory art making in the studio.
X-ALT-DESC;FMTTYPE=text/html:<p>Tour and activities for all ages</p><span style="font-size: 11pt\; font-family: Calibri\, sans-serif\;">Tour and activity for all ages beginning at 1pm.&nbsp\; Closing day family friendly tours of the summer exhibitions followed by summer memory art making in the studio.&nbsp\;&nbsp\;</span><br>
LOCATION:The Hyde Collection Art Museum
UID:e.2254.3518
SEQUENCE:3
DTSTAMP:20260424T110843Z
URL:https://chamber.saratoga.org/events/details/discovery-day-summer-shadows-09-14-2014-09-14-2014-3518
END:VEVENT

END:VCALENDAR
