BEGIN:VCALENDAR
VERSION:2.0
PRODID:-//ChamberMaster//Event Calendar 2.0//EN
METHOD:PUBLISH
X-PUBLISHED-TTL:P3D
REFRESH-INTERVAL:P3D
CALSCALE:GREGORIAN
BEGIN:VEVENT
DTSTART:20150411T140000Z
DTEND:20150411T160000Z
X-MICROSOFT-CDO-ALLDAYEVENT:FALSE
SUMMARY:Discovery Day - Build a Rocket
DESCRIPTION:Use everyday objects to build a variety of mechanically driven rockets. Design\, experiment\, and launch your creations in Brookside's back yard. Bring items from home to repurpose into rockets\, or select from our supply of cylinders\, rubber bands\, bottles\, and other materials. Best suited for children age 6-14 and their caregivers. Pre-registration is required by the Friday before each program\, please do so by emailing Anne at aclothier@brooksidemuseum.org.
X-ALT-DESC;FMTTYPE=text/html:Use everyday objects to build a variety of mechanically driven rockets. Design\, experiment\, and launch your creations in Brookside&#39\;s back yard. Bring items from home to repurpose into rockets\, or select from our supply of cylinders\, rubber bands\, bottles\, and other materials. Best suited for children age 6-14 and their caregivers. Pre-registration is required by the Friday before each program\, please do so by emailing Anne at aclothier@brooksidemuseum.org.
LOCATION:Brookside Museum\, 6 Charlton Street\, Ballston Spa
UID:e.2254.7678
SEQUENCE:3
DTSTAMP:20260423T214008Z
URL:https://chamber.saratoga.org/events/details/discovery-day-build-a-rocket-04-11-2015-7678
END:VEVENT

END:VCALENDAR
