BEGIN:VCALENDAR
VERSION:2.0
PRODID:-//ChamberMaster//Event Calendar 2.0//EN
METHOD:PUBLISH
X-PUBLISHED-TTL:P3D
REFRESH-INTERVAL:P3D
CALSCALE:GREGORIAN
BEGIN:VEVENT
DTSTART:20160213T153000Z
DTEND:20160213T173000Z
X-MICROSOFT-CDO-ALLDAYEVENT:FALSE
SUMMARY:Dion Snowshoe Series
DESCRIPTION:This is part of the Dion Snowshoe Series. For more information or to register\, please contact Laura Clark at laura@saratogastryders.org\, call 518-581-7550 or visit www.saratogastryders.org.
X-ALT-DESC;FMTTYPE=text/html:This is part of the Dion Snowshoe Series. For more information or to register\, please contact Laura Clark at laura@saratogastryders.org\, call 518-581-7550 or visit www.saratogastryders.org.
LOCATION:Camp Saratoga\, Parking Lot 1 Scout Rd Gansevoort\, NY 12831
UID:e.2254.13183
SEQUENCE:3
DTSTAMP:20260422T022406Z
URL:https://chamber.saratoga.org/events/details/dion-snowshoe-series-02-13-2016-13183
END:VEVENT

END:VCALENDAR
