BEGIN:VCALENDAR
VERSION:2.0
PRODID:-//ChamberMaster//Event Calendar 2.0//EN
METHOD:PUBLISH
X-PUBLISHED-TTL:P3D
REFRESH-INTERVAL:P3D
CALSCALE:GREGORIAN
BEGIN:VEVENT
DTSTART:20150930T220000Z
DTEND:20151001T000000Z
X-MICROSOFT-CDO-ALLDAYEVENT:FALSE
SUMMARY:Dinner/Seminar at Maestro's
DESCRIPTION:Join James Whalen and Rich White from Morgan Stanley\, with guest speaker Michael Schaefer\, Regional Director at Principal Funds\, for a discussion over dinner about building the proper retirement portfolio. \n\n\nIf you are interested in learning more about building a suitable portfolio for your investments\, please join us for dinner. The only thing we expect out of our guests is for them to enjoy themselves\, meet some new people\, and learn something! It is a very casual atmosphere! 3 course dinner will be provided.
X-ALT-DESC;FMTTYPE=text/html:<h2 style="font-style: italic\;">Join James Whalen and Rich White from Morgan Stanley\, with guest speaker Michael Schaefer\, Regional Director at Principal Funds\, for a discussion over dinner about building the proper retirement portfolio.&nbsp\;</h2>\n<br />\nIf you are interested in learning more about building a suitable portfolio for your investments\, please join us for dinner. The only thing we expect out of our guests is for them to enjoy themselves\, meet some new people\, and learn something! It is a very casual atmosphere! <strong>3 course dinner will be provided</strong>.&nbsp\;<br />\n<br />\n&nbsp\;
LOCATION:Maestro's at the Van Dam\, 353 Broadway\, Saratoga Springs\, NY 12866
UID:e.2254.12383
SEQUENCE:3
DTSTAMP:20260423T003754Z
URL:https://chamber.saratoga.org/events/details/dinner-seminar-at-maestro-s-09-30-2015-12383
END:VEVENT

END:VCALENDAR
