BEGIN:VCALENDAR
VERSION:2.0
PRODID:-//ChamberMaster//Event Calendar 2.0//EN
METHOD:PUBLISH
X-PUBLISHED-TTL:P3D
REFRESH-INTERVAL:P3D
CALSCALE:GREGORIAN
BEGIN:VEVENT
DTSTART:20170226T210000Z
DTEND:20170227T020000Z
X-MICROSOFT-CDO-ALLDAYEVENT:FALSE
SUMMARY:Dining for a Cause: Support the ADK
DESCRIPTION:Join us Sunday Night\, February 26th at the The Brook Tavern in Saratoga Springs! Enjoy a wonderful dinner and support AFS at the same time! The Brook Tavern has selected the Adirondack Folk School as a recipient for their giving campaign. A very generous percentage of all meals purchased that evening will go to support AFS! It's a win for us\, and a great excuse to dine at one of Saratoga's finest establishments! Bon Appetit and thank you for your support!!
X-ALT-DESC;FMTTYPE=text/html:Join us Sunday Night\, February 26th at the The Brook Tavern in Saratoga Springs! Enjoy a wonderful dinner and support AFS at the same time! The Brook Tavern has selected the Adirondack Folk School as a recipient for their giving campaign. A very generous percentage of all meals purchased that evening will go to support AFS! It&rsquo\;s a win for us\, and a great excuse to dine at one of Saratoga&#39\;s finest establishments! Bon Appetit and thank you for your support!!
LOCATION:The Brook Tavern\, 139 Union Ave\, Saratoga Springs\, NY 12866
UID:e.2254.22887
SEQUENCE:3
DTSTAMP:20260420T101702Z
URL:https://chamber.saratoga.org/events/details/dining-for-a-cause-support-the-adk-22887
END:VEVENT

END:VCALENDAR
