BEGIN:VCALENDAR
VERSION:2.0
PRODID:-//ChamberMaster//Event Calendar 2.0//EN
METHOD:PUBLISH
X-PUBLISHED-TTL:P3D
REFRESH-INTERVAL:P3D
CALSCALE:GREGORIAN
BEGIN:VEVENT
DTSTART:20160525T200000Z
DTEND:20160526T030000Z
X-MICROSOFT-CDO-ALLDAYEVENT:FALSE
SUMMARY:DINE AND DONATE ? A great way to contribute to a wonderful non-profit just by eating dinner.
DESCRIPTION:For a great meal and a great cause\, stop by The Longhorn Restaurant \n\nand Pub on Wednesday\, May 25th.  A portion of all dining room food \n\nsales will go to support the Adirondack Folk School and our vital efforts\n\nto make sure the arts of our proud region live on into the future. Our \n\ndeepest thanks to Longhorn and its fine patrons. \n\n \n\nDate:     May 25\, 2016\n\nTime:    4pm - Close\n\nWhere:  The Longhorn Restaurant and Pub\n\n              1379 Lake Avenue (Route 9N) \n\n              Lake Luzerne\, NY 12846\n\n              518-696-5655
X-ALT-DESC;FMTTYPE=text/html:<span style="font-size:16pt"><span style="font-family:times new roman">For a great meal and a great cause\, stop by The Longhorn Restaurant </span></span><br />\n<span style="font-size:16pt"><span style="font-family:times new roman">and Pub on Wednesday\, May 25th.&nbsp\; A portion of all dining room food </span></span><br />\n<span style="font-size:16pt"><span style="font-family:times new roman">sales will go to support the Adirondack Folk School and our vital efforts</span></span><br />\n<span style="font-size:16pt"><span style="font-family:times new roman">to make sure the arts of our proud region live on into the future. Our </span></span><br />\n<span style="font-size:16pt"><span style="font-family:times new roman">deepest thanks to Longhorn and its fine patrons. </span></span><br />\n&nbsp\;<br />\n<span style="font-size:16pt"><span style="font-family:times new roman">Date:&nbsp\;&nbsp\;&nbsp\;&nbsp\; May 25\, 2016</span></span><br />\n<span style="font-size:16pt"><span style="font-family:times new roman">Time:&nbsp\;&nbsp\;&nbsp\; 4pm - Close</span></span><br />\n<span style="font-size:16pt"><span style="font-family:times new roman">Where:&nbsp\; The Longhorn Restaurant and Pub</span></span><br />\n<span style="font-size:16pt"><span style="font-family:times new roman">&nbsp\;&nbsp\;&nbsp\;&nbsp\;&nbsp\;&nbsp\;&nbsp\;&nbsp\;&nbsp\;&nbsp\;&nbsp\;&nbsp\;&nbsp\; 1379 Lake Avenue (Route 9N) </span></span><br />\n<span style="font-size:16pt"><span style="font-family:times new roman">&nbsp\;&nbsp\;&nbsp\;&nbsp\;&nbsp\;&nbsp\;&nbsp\;&nbsp\;&nbsp\;&nbsp\;&nbsp\;&nbsp\;&nbsp\; Lake Luzerne\, NY 12846</span></span><br />\n<span style="font-size:16pt"><span style="font-family:times new roman">&nbsp\;&nbsp\;&nbsp\;&nbsp\;&nbsp\;&nbsp\;&nbsp\;&nbsp\;&nbsp\;&nbsp\;&nbsp\;&nbsp\;&nbsp\; 518-696-5655</span></span><br />\n&nbsp\;
LOCATION:The Longhorn Restaurant and Pub 1379 Lake Avenue (Route 9N) Lake Luzerne\, NY 12846
UID:e.2254.16540
SEQUENCE:3
DTSTAMP:20260421T161254Z
URL:https://chamber.saratoga.org/events/details/dine-and-donate-a-great-way-to-contribute-to-a-wonderful-non-profit-just-by-eating-dinner-05-25-2016-16540
END:VEVENT

END:VCALENDAR
