BEGIN:VCALENDAR
VERSION:2.0
PRODID:-//ChamberMaster//Event Calendar 2.0//EN
METHOD:PUBLISH
X-PUBLISHED-TTL:P3D
REFRESH-INTERVAL:P3D
CALSCALE:GREGORIAN
BEGIN:VEVENT
DTSTART:20150609T170000Z
DTEND:20150609T200000Z
X-MICROSOFT-CDO-ALLDAYEVENT:FALSE
SUMMARY:Digital Diaspora Family Reunion Roadshow
DESCRIPTION:Share your family story! Make an appointment to share your album & stories for the archive Please RSVP to: mdocs@skidmore.edu
X-ALT-DESC;FMTTYPE=text/html:Share your family story! Make an appointment to share your album &amp\; stories for the archive Please RSVP to: mdocs@skidmore.edu
LOCATION:Skidmore College\, The Tang Teaching Museum\, Payne Room
UID:e.2254.8376
SEQUENCE:3
DTSTAMP:20260423T074103Z
URL:https://chamber.saratoga.org/events/details/digital-diaspora-family-reunion-roadshow-06-09-2015-8376
END:VEVENT

END:VCALENDAR
