BEGIN:VCALENDAR
VERSION:2.0
PRODID:-//ChamberMaster//Event Calendar 2.0//EN
METHOD:PUBLISH
X-PUBLISHED-TTL:P3D
REFRESH-INTERVAL:P3D
CALSCALE:GREGORIAN
BEGIN:VEVENT
DTSTART:20150417T233000Z
DTEND:20150418T030000Z
X-MICROSOFT-CDO-ALLDAYEVENT:FALSE
SUMMARY:Diamond Dance
DESCRIPTION:Once a month\, (every third Friday)\, the Diamond Dance has either a swing or a big band play. The event features live music\, tables\, chairs\, a dance lesson and plenty of space to dance or to watch the dancers.
X-ALT-DESC;FMTTYPE=text/html:Once a month\, (every third Friday)\, the Diamond Dance has either a swing or a big band play. The event features live music\, tables\, chairs\, a dance lesson and plenty of space to dance or to watch the dancers.
LOCATION:Saratoga Music Hall
UID:e.2254.7702
SEQUENCE:3
DTSTAMP:20260423T195714Z
URL:https://chamber.saratoga.org/events/details/diamond-dance-04-17-2015-7702
END:VEVENT

END:VCALENDAR
