BEGIN:VCALENDAR
VERSION:2.0
PRODID:-//ChamberMaster//Event Calendar 2.0//EN
METHOD:PUBLISH
X-PUBLISHED-TTL:P3D
REFRESH-INTERVAL:P3D
CALSCALE:GREGORIAN
BEGIN:VEVENT
DTSTART:20150725T170000Z
DTEND:20150725T190000Z
X-MICROSOFT-CDO-ALLDAYEVENT:FALSE
SUMMARY:Decoda|Skidmore Chamber Music Marathon
DESCRIPTION:Final concert featuring Decoda | Skidmore Chamber Music Institute participants 1 p.m.- Arthur Zankel Music Center\, Ladd Hall Free admission. For more information call 518-580-5546
X-ALT-DESC;FMTTYPE=text/html:Final concert featuring Decoda | Skidmore Chamber Music Institute participants 1 p.m.- Arthur Zankel Music Center\, Ladd Hall Free admission. For more information call 518-580-5546
LOCATION:Arthur Zankel Music Center Skidmore College 815 N Broadway Saratoga Springs\, NY 12866
UID:e.2254.9773
SEQUENCE:3
DTSTAMP:20260423T040850Z
URL:https://chamber.saratoga.org/events/details/decoda-skidmore-chamber-music-marathon-07-25-2015-9773
END:VEVENT

END:VCALENDAR
