BEGIN:VCALENDAR
VERSION:2.0
PRODID:-//ChamberMaster//Event Calendar 2.0//EN
METHOD:PUBLISH
X-PUBLISHED-TTL:P3D
REFRESH-INTERVAL:P3D
CALSCALE:GREGORIAN
BEGIN:VEVENT
DTSTART:20150524T180000Z
DTEND:20150524T200000Z
X-MICROSOFT-CDO-ALLDAYEVENT:FALSE
SUMMARY:de Blasiis Chamber Music Series
DESCRIPTION:The last concert of the 2014-15 de Blasiis Concert Series takes place on Sunday\, May 24\, 2015 at 2pm with Trio 826.  \n\nTrio 826 was created in 2011 by three friends to explore ideas for innovation in the performance of classical music. The members of the trio\, violinist Susanna Klein\, cellist Hannah Holman\, and violist Julia Bullard\, have vast experience as orchestral and chamber musicians\, soloists\, and educators.  \n\n\nThe mission of Trio 826 is to be an agent of change in the classical arena. “We hope to be curious about our audience\, take on risk in new presentations\, and bring classical music to life. We perform new and standard repertoire works in a variety of venues\, from formal concerts to shows in intimate\, informal\, and unusual settings.” They are committed to expanding the repertoire for string trio through the commission and performance of new works and love to collaborate with institutions\, other musicians\, and artists of all disciplines.\n\nThe de Blasiis concerts take place in The Hyde Collection’s Froehlich Auditorium\, 161 Warren Street\, Glens Falls\, New York.  Tickets for all performances are available at the door: $25 for general admission and $5 for students.  Further information\, advanced ticket sales\, and de Blasiis season subscriptions are available from de Blasiis Artistic Director David Bullard at 518-792-2383.
X-ALT-DESC;FMTTYPE=text/html:The last concert of the 2014-15 de Blasiis Concert Series takes place on Sunday\, May 24\, 2015 at 2pm with Trio 826. &nbsp\;<br><br>Trio 826 was created in 2011 by three friends to explore ideas for innovation in the performance of classical music. The members of the trio\, violinist Susanna Klein\, cellist Hannah Holman\, and violist Julia Bullard\, have vast experience as orchestral and chamber musicians\, soloists\, and educators. &nbsp\;<br><br><br>The mission of Trio 826 is to be an agent of change in the classical arena. “We hope to be curious about our audience\, take on risk in new presentations\, and bring classical music to life. We perform new and standard repertoire works in a variety of venues\, from formal concerts to shows in intimate\, informal\, and unusual settings.” They are committed to expanding the repertoire for string trio through the commission and performance of new works and love to collaborate with institutions\, other musicians\, and artists of all disciplines.<br><br>The de Blasiis concerts take place in The Hyde Collection’s Froehlich Auditorium\, 161 Warren Street\, Glens Falls\, New York. &nbsp\;Tickets for all performances are available at the door: $25 for general admission and $5 for students. &nbsp\;Further information\, advanced ticket sales\, and de Blasiis season subscriptions are available from de Blasiis Artistic Director David Bullard at 518-792-2383.<br><div><br></div>
LOCATION:The Hyde Collection Art Museum
UID:e.2254.4904
SEQUENCE:3
DTSTAMP:20260423T163901Z
URL:https://chamber.saratoga.org/events/details/de-blasiis-chamber-music-series-05-24-2015-4904
END:VEVENT

END:VCALENDAR
