BEGIN:VCALENDAR
VERSION:2.0
PRODID:-//ChamberMaster//Event Calendar 2.0//EN
METHOD:PUBLISH
X-PUBLISHED-TTL:P3D
REFRESH-INTERVAL:P3D
CALSCALE:GREGORIAN
BEGIN:VEVENT
DTSTART:20150703T230000Z
DTEND:20150704T030000Z
X-MICROSOFT-CDO-ALLDAYEVENT:FALSE
SUMMARY:Dave Matthews Band
DESCRIPTION:www.livenation.com to purchase tickets
X-ALT-DESC;FMTTYPE=text/html:<p><a href="http://www.livenation.com">www.livenation.com</a> to purchase tickets<br />\n<br />\n&nbsp\;</p>\n
LOCATION:Saratoga Performing Arts Center 108 Avenue of the Pines Saratoga Springs NY 12866
UID:e.2254.2729
SEQUENCE:3
DTSTAMP:20260423T040525Z
URL:https://chamber.saratoga.org/events/details/dave-matthews-band-07-03-2015-2729
END:VEVENT

END:VCALENDAR
