BEGIN:VCALENDAR
VERSION:2.0
PRODID:-//ChamberMaster//Event Calendar 2.0//EN
METHOD:PUBLISH
X-PUBLISHED-TTL:P3D
REFRESH-INTERVAL:P3D
CALSCALE:GREGORIAN
BEGIN:VEVENT
DTSTART;VALUE=DATE:20160709
DTEND;VALUE=DATE:20160710
TRANSP:TRANSPARENT
X-MICROSOFT-CDO-ALLDAYEVENT:TRUE
SUMMARY:Dancing with the Docs 2016
DESCRIPTION:Globesity Inc.\,physicians fighting global obesity\, one step at a time\, is a non-profit obesity prevention corporation that will be sponsoring its 4th Annual Fundraiser\, Dancing with the Docs 2016. Dance workshops start at 10 AM and end at 2 PM and the Dinner/Dance Fundraiser starts at 7 PM and ends at Midnight with continuous music by dance bands Alex Torres and his Latin Orchestra and the Funk\, Soul and Reggae Review Band\, Le' Mixx
X-ALT-DESC;FMTTYPE=text/html:Globesity Inc.\,physicians fighting global obesity\, one step at a time\, is a non-profit obesity prevention corporation that will be sponsoring its 4th Annual Fundraiser\, Dancing with the Docs 2016. Dance workshops start at 10 AM and end at 2 PM and the Dinner/Dance Fundraiser starts at 7 PM and ends at Midnight with continuous music by dance bands Alex Torres and his Latin Orchestra and the Funk\, Soul and Reggae Review Band\, Le&#39\; Mixx
LOCATION:The Saratoga Hilton 534 Broadway Saratoga Springs\, NY 12866
UID:e.2254.16943
SEQUENCE:3
DTSTAMP:20260421T091113Z
URL:https://chamber.saratoga.org/events/details/dancing-with-the-docs-2016-07-09-2016-16943
END:VEVENT

END:VCALENDAR
