BEGIN:VCALENDAR
VERSION:2.0
PRODID:-//ChamberMaster//Event Calendar 2.0//EN
METHOD:PUBLISH
X-PUBLISHED-TTL:P3D
REFRESH-INTERVAL:P3D
CALSCALE:GREGORIAN
BEGIN:VEVENT
DTSTART:20140701T140000Z
DTEND:20140701T180000Z
X-MICROSOFT-CDO-ALLDAYEVENT:FALSE
SUMMARY:Dancer Health Day - 07/01/2014
DESCRIPTION:National Museum of DanceDancer Health\nDay is an annual program sponsored by the National Museum of Dance and geared\ntowards budding dancers\, serious students\, and adults alike. Our professional\npresenters will be discussing essential information related to the body such as\ncommon dance injuries\, good nutrition\, the auditioning process\, yoga and\nstrength training \, how to get a paycheck dancing\, other dance related careers\,\nand more.\n\nThis is a\nfree museum event. The museum exhibits will be free to visit during this event.\n\nRSVP’s for\nthis event are appreciated by calling 518-584-2225 x 3009 or emailing programming@dancemuseum.org
X-ALT-DESC;FMTTYPE=text/html:<p>National Museum of Dance</p><p class="MsoNormal"><span style="color: windowtext\;">Dancer Health\nDay is an annual program sponsored by the National Museum of Dance and geared\ntowards budding dancers\, serious students\, and adults alike. Our professional\npresenters will be discussing essential information related to the body such as\ncommon dance injuries\, good nutrition\, the auditioning process\, yoga and\nstrength training \, how to get a paycheck dancing\, other dance related careers\,\nand more.<o:p></o:p></span></p>\n\n<p class="MsoNormal"><span style="color: windowtext\;">This is a\nfree museum event. The museum exhibits will be free to visit during this event.<o:p></o:p></span></p>\n\n<p class="MsoNormal"><span style="color: windowtext\;">RSVP’s for\nthis event are appreciated by calling 518-584-2225 x 3009 or emailing </span><a href="mailto:programming@dancemuseum.org">programming@dancemuseum.org</a><span style="color: windowtext\;"> <o:p></o:p></span></p>
LOCATION:National Museum of Dance
UID:e.2254.3307
SEQUENCE:3
DTSTAMP:20260424T234603Z
URL:https://chamber.saratoga.org/events/details/dancer-health-day-07-01-2014-07-01-2014-3307
END:VEVENT

END:VCALENDAR
