BEGIN:VCALENDAR
VERSION:2.0
PRODID:-//ChamberMaster//Event Calendar 2.0//EN
METHOD:PUBLISH
X-PUBLISHED-TTL:P3D
REFRESH-INTERVAL:P3D
CALSCALE:GREGORIAN
BEGIN:VEVENT
DTSTART:20150715T173000Z
DTEND:20150715T190000Z
X-MICROSOFT-CDO-ALLDAYEVENT:FALSE
SUMMARY:Dan Newton's Cafe Accordion Orchestra
DESCRIPTION:A loungy\, eclectic mix\, full of French flare\, Latin heat\, and Bohemian attitude. The heart of the Caf  Accordion repertoire is the romantic\, gypsy-influenced valse-musette. The group complements the musettes with sing\, ballads\, tangos\, cha chas\, rumbas\, and cumbias to create a wonderfully varied show. The ensemble displays a high level of musicianship and passion for performance\, injecting their music with good humor and expressive abandon.
X-ALT-DESC;FMTTYPE=text/html:A loungy\, eclectic mix\, full of French flare\, Latin heat\, and Bohemian attitude. The heart of the Caf&eacute\; Accordion repertoire is the romantic\, gypsy-influenced valse-musette. The group complements the musettes with sing\, ballads\, tangos\, cha chas\, rumbas\, and cumbias to create a wonderfully varied show. The ensemble displays a high level of musicianship and passion for performance\, injecting their music with good humor and expressive abandon.
LOCATION:The Sembrich\, 4800 Lakeshore Drive\, Bolton Landing\, NY
UID:e.2254.10031
SEQUENCE:3
DTSTAMP:20260423T040919Z
URL:https://chamber.saratoga.org/events/details/dan-newton-s-cafe-accordion-orchestra-07-15-2015-10031
END:VEVENT

END:VCALENDAR
