BEGIN:VCALENDAR
VERSION:2.0
PRODID:-//ChamberMaster//Event Calendar 2.0//EN
METHOD:PUBLISH
X-PUBLISHED-TTL:P3D
REFRESH-INTERVAL:P3D
CALSCALE:GREGORIAN
BEGIN:VEVENT
DTSTART:20160730T140000Z
DTEND:20160827T200000Z
X-MICROSOFT-CDO-ALLDAYEVENT:FALSE
SUMMARY:DAMASCUS STEEL HUNTING KNIFE RAFFLE
DESCRIPTION:Raffle tickets are $10 each for a chance to win an extraordinary Damascus steel hunting knife\, crafted and donated by AFS instructor and Master Smith Matthew Parkinson.\n\nParkinson\, of Dragon's Breath Forge in Connecticut\, forged the knife by welding 125 layers of steel into an intricate swirling pattern\, in following a blacksmithing technique which originated in ancient Syria.\n\nThe knife has a Damascus guard\, maple burl handle and leather sheath\, all handmade by Parkinson.\n\nIn the 2015 season of "Forged in Fire\," produced by the History Channel\, Parkinson\, in the first episode\, forges a sword that splits a bullet fired from a rifle\, and then discovers no damage to the sword.\n\nThe winner of the Damascus steel hunting knife raffle will be drawn at the Summer Craft Festival\, Saturday\, August 27\, 10 a.m.-4 p.m. at AFS campus\, 51 Main St.\, Lake Luzerne\, NY 12846. Tickets can be purchased now at the campus or via phone\, with cash\, check or credit card. The ticket holder does not need to be present to win.
X-ALT-DESC;FMTTYPE=text/html:<p>Raffle tickets are <strong>$10</strong> each for a chance to win an extraordinary <strong>Damascus steel hunting knife</strong>\, crafted and donated by AFS instructor and Master Smith Matthew Parkinson.</p>\n\n<p>Parkinson\, of Dragon&rsquo\;s Breath Forge in Connecticut\, forged the knife by welding 125 layers of steel into an intricate swirling pattern\, in following a blacksmithing technique which originated in ancient Syria.</p>\n\n<p>The knife has a Damascus guard\, maple burl handle and leather sheath\, all handmade by Parkinson.</p>\n\n<p>In the 2015 season of &ldquo\;Forged in Fire\,&rdquo\; produced by the History Channel\, Parkinson\, in the first episode\, forges a sword that splits a bullet fired from a rifle\, and then discovers no damage to the sword.</p>\n\n<p><strong>The winner of the Damascus steel hunting knife raffle will be drawn at the Summer Craft Festival\, Saturday\, August 27\, 10 a.m.-4 p.m. at AFS campus\, 51 Main St.\, Lake Luzerne\, NY 12846. Tickets can be purchased now at the campus or via phone\, with cash\, check or credit card. The ticket holder does not need to be present to win.</strong></p>\n
LOCATION:The Adirondack Folk School 51 Main Street Lake Luzerne\, NY 12846
UID:e.2254.17315
SEQUENCE:3
DTSTAMP:20260421T004324Z
URL:https://chamber.saratoga.org/events/details/damascus-steel-hunting-knife-raffle-07-30-2016-17315
END:VEVENT

END:VCALENDAR
