BEGIN:VCALENDAR
VERSION:2.0
PRODID:-//ChamberMaster//Event Calendar 2.0//EN
METHOD:PUBLISH
X-PUBLISHED-TTL:P3D
REFRESH-INTERVAL:P3D
CALSCALE:GREGORIAN
BEGIN:VEVENT
DTSTART:20151201T223000Z
DTEND:20151202T003000Z
X-MICROSOFT-CDO-ALLDAYEVENT:FALSE
SUMMARY:Cybersecurity 101 Grand Opening Celebration
DESCRIPTION:Solving the Cybersecurity Skills Shortage Hudson Valley Community College Workforce Development has partnered with GreyCastle Security to help solve the nationally recognized skills shortage in information security. Beginning in January 2016\, individuals will have the opportunity to take the first- ever Cybersecurity Certificate Course that will provide the fundamental training needed to pave the way for a career in the fastest growing industry in the world. Join us for the Cybersecurity 101 Grand Opening Event on December 1st\, and find out more about this exciting new program launch. 5:30 p.m.  Registration 5:45 p.m. -  6:15 p.m.  Welcome and Introductions 6:15 p.m.  6:45 p.m.  Open Question Forum 6:45 p.m. - 7:30 p.m. Cocktail Reception Register Today!
X-ALT-DESC;FMTTYPE=text/html:Solving the Cybersecurity Skills Shortage Hudson Valley Community College Workforce Development has partnered with GreyCastle Security to help solve the nationally recognized skills shortage in information security. Beginning in January 2016\, individuals will have the opportunity to take the first- ever Cybersecurity Certificate Course that will provide the fundamental training needed to pave the way for a career in the fastest growing industry in the world. Join us for the Cybersecurity 101 Grand Opening Event on December 1st\, and find out more about this exciting new program launch. 5:30 p.m.&nbsp\; Registration 5:45 p.m.&nbsp\;- &nbsp\;6:15 p.m.&nbsp\; Welcome and Introductions 6:15 p.m.&nbsp\; 6:45 p.m.&nbsp\; Open Question Forum 6:45 p.m. - 7:30 p.m. Cocktail Reception Register Today!
LOCATION:Hudson Valley Community College - Bulmer Telecommunications Center - Auditorium 80 Vandenburgh Ave Troy\, New York 12180
UID:e.2254.12766
SEQUENCE:3
DTSTAMP:20260422T081943Z
URL:https://chamber.saratoga.org/events/details/cybersecurity-101-grand-opening-celebration-12-01-2015-12766
END:VEVENT

END:VCALENDAR
