BEGIN:VCALENDAR
VERSION:2.0
PRODID:-//ChamberMaster//Event Calendar 2.0//EN
METHOD:PUBLISH
X-PUBLISHED-TTL:P3D
REFRESH-INTERVAL:P3D
CALSCALE:GREGORIAN
BEGIN:VEVENT
DTSTART:20160514T110000Z
DTEND:20160514T180000Z
X-MICROSOFT-CDO-ALLDAYEVENT:FALSE
SUMMARY:Customer Appreciation Week at Iron Roost
DESCRIPTION:Iron Roost is celebrating Customer Appreciation Week (also our 4th anniversary in business!) May 10-14\, 2016. We have some awesome giveaways\, specials\, and events planned for the week. Join us for a week of fun! Here is our calendar of events: Tuesday\, 5/10: Roost Bucks token giveaway ? save $5 the next time you come in (1 per adult) Wednesday\, 5/11: 10% off your order if you show us that you posted on your social media about Customer Appreciation Week and used the hashtag #ironroost (excluding gift card purchases) Thursday\, 5/12: Iron Roost reusable bag giveaway (while supplies last) Friday\, 5/13: Free coffee (our House\, Dark Roast or Jamaican) or tea all day (1 per person\, excluding speciality coffees) Saturday\, 5/14: Waffle Eating Contest (exact time TBD)\, Bouncy Bounce + balloon creations for kids\, and other giveaways and specials throughout the day
X-ALT-DESC;FMTTYPE=text/html:Iron Roost is celebrating Customer Appreciation Week (also our 4th anniversary in business!) May 10-14\, 2016. We have some awesome giveaways\, specials\, and events planned for the week. Join us for a week of fun! Here is our calendar of events: Tuesday\, 5/10: Roost Bucks token giveaway ? save $5 the next time you come in (1 per adult) Wednesday\, 5/11: 10% off your order if you show us that you posted on your social media about Customer Appreciation Week and used the hashtag #ironroost (excluding gift card purchases) Thursday\, 5/12: Iron Roost reusable bag giveaway (while supplies last) Friday\, 5/13: Free coffee (our House\, Dark Roast or Jamaican) or tea all day (1 per person\, excluding speciality coffees) Saturday\, 5/14: Waffle Eating Contest (exact time TBD)\, Bouncy Bounce + balloon creations for kids\, and other giveaways and specials throughout the day
LOCATION:36 Front Street\, Ballston Spa\, NY 12020
UID:e.2254.16388
SEQUENCE:3
DTSTAMP:20260421T210356Z
URL:https://chamber.saratoga.org/events/details/customer-appreciation-week-at-iron-roost-05-14-2016-16388
END:VEVENT

END:VCALENDAR
