BEGIN:VCALENDAR
VERSION:2.0
PRODID:-//ChamberMaster//Event Calendar 2.0//EN
METHOD:PUBLISH
X-PUBLISHED-TTL:P3D
REFRESH-INTERVAL:P3D
CALSCALE:GREGORIAN
BEGIN:VEVENT
DTSTART:20160227T180000Z
DTEND:20160227T190000Z
X-MICROSOFT-CDO-ALLDAYEVENT:FALSE
SUMMARY:Cross-Country Ski Tour
DESCRIPTION:Explore the beauty of Wilton Wildlife Preserve and Park during a beautiful winter-guided cross-country ski tour. Learn about the history behind our unique ecosystem of Glacial Lake Albany and the park's current efforts to protect endangered and threatened species living at the preserve. Beginners welcome! The program is open to the public ages 10 and up. Cross-country ski rentals free for members\, $3 for nonmembers. Pre-registration required by February 26th.
X-ALT-DESC;FMTTYPE=text/html:Explore the beauty of Wilton Wildlife Preserve and Park during a beautiful winter-guided cross-country ski tour. Learn about the history behind our unique ecosystem of Glacial Lake Albany and the park&#39\;s current efforts to protect endangered and threatened species living at the preserve. Beginners welcome! The program is open to the public ages 10 and up. Cross-country ski rentals free for members\, $3 for nonmembers. Pre-registration required by February 26th.
LOCATION:Camp Saratoga\, Parking Lot 1 Scout Rd Gansevoort\, NY 12831
UID:e.2254.13184
SEQUENCE:3
DTSTAMP:20260422T022605Z
URL:https://chamber.saratoga.org/events/details/cross-country-ski-tour-02-27-2016-13184
END:VEVENT

END:VCALENDAR
