BEGIN:VCALENDAR
VERSION:2.0
PRODID:-//ChamberMaster//Event Calendar 2.0//EN
METHOD:PUBLISH
X-PUBLISHED-TTL:P3D
REFRESH-INTERVAL:P3D
CALSCALE:GREGORIAN
BEGIN:VEVENT
DTSTART:20150423T130000Z
DTEND:20150423T153000Z
X-MICROSOFT-CDO-ALLDAYEVENT:FALSE
SUMMARY:Critical Issues in Labor and Employment Law - A Complimentary Seminar
DESCRIPTION:Please join the Harris Beach Labor and Employment Practice Group for a complimentary seminar on April 23\, 2015 at the Hyatt Place in Malta from 9:00 a.m. to 11:30 a.m. Who should attend: Human Resources Directors and Managers\, In-House Counsel and Business Owners.  Topics of Discussion: Wage and Hour Challenges: What to Watch Out For Hiring and Firing the Right Way\, Discrimination and the EEOC Presenters: Douglas E. Gerhardt\,  Mark J. McCarthy\, Edward A. Trevvett
X-ALT-DESC;FMTTYPE=text/html:Please join the Harris Beach Labor and Employment Practice Group for a complimentary seminar on April 23\, 2015 at the Hyatt Place in Malta from 9:00 a.m. to 11:30 a.m. Who should attend: Human Resources Directors and Managers\, In-House Counsel and Business Owners. &nbsp\;Topics of Discussion: Wage and Hour Challenges: What to Watch Out For Hiring and Firing the Right Way\, Discrimination and the EEOC Presenters: Douglas E. Gerhardt\, &nbsp\;Mark J. McCarthy\, Edward A. Trevvett
LOCATION:Hyatt Place 20 State Farm Place Malta\, NY 12020
UID:e.2254.7685
SEQUENCE:3
DTSTAMP:20260423T200048Z
URL:https://chamber.saratoga.org/events/details/critical-issues-in-labor-and-employment-law-a-complimentary-seminar-04-23-2015-7685
END:VEVENT

END:VCALENDAR
