BEGIN:VCALENDAR
VERSION:2.0
PRODID:-//ChamberMaster//Event Calendar 2.0//EN
METHOD:PUBLISH
X-PUBLISHED-TTL:P3D
REFRESH-INTERVAL:P3D
CALSCALE:GREGORIAN
BEGIN:VEVENT
DTSTART;VALUE=DATE:20170201
DTEND;VALUE=DATE:20170202
TRANSP:TRANSPARENT
X-MICROSOFT-CDO-ALLDAYEVENT:TRUE
SUMMARY:Creatures of Myth & Legend
DESCRIPTION:ONLINE CLASS JANUARY 1\, 2017 - MAY 15\,2017 Investigate creatures of myth and legend from Bigfoot to the Loch Ness Monster. Pre-registration required call continuing education at 518-743-2238 or email: conted@sunyacc.edu Grades 3-5\, Grades 6-9 Grades 10-12
X-ALT-DESC;FMTTYPE=text/html:ONLINE CLASS JANUARY 1\, 2017 - MAY 15\,2017 Investigate creatures of myth and legend from Bigfoot to the Loch Ness Monster. Pre-registration required call continuing education at 518-743-2238 or email: conted@sunyacc.edu Grades 3-5\, Grades 6-9 Grades 10-12
LOCATION:ONLINE
UID:e.2254.22441
SEQUENCE:3
DTSTAMP:20260420T101656Z
URL:https://chamber.saratoga.org/events/details/creatures-of-myth-legend-22441
END:VEVENT

END:VCALENDAR
