BEGIN:VCALENDAR
VERSION:2.0
PRODID:-//ChamberMaster//Event Calendar 2.0//EN
METHOD:PUBLISH
X-PUBLISHED-TTL:P3D
REFRESH-INTERVAL:P3D
CALSCALE:GREGORIAN
BEGIN:VEVENT
DTSTART:20150721T193000Z
DTEND:20150721T203000Z
X-MICROSOFT-CDO-ALLDAYEVENT:FALSE
SUMMARY:Creatures of Geyser Creek
DESCRIPTION:Spend an afternoon in Geyser Creek getting to know the aquatic creatures that call it home! Please wear water shoes and clothes that can get wet. Fee is $3 per person or $5 per family. Registration is required. Please call (518) 584-2000 Ext. 116 to register.
X-ALT-DESC;FMTTYPE=text/html:Spend an afternoon in Geyser Creek getting to know the aquatic creatures that call it home! Please wear water shoes and clothes that can get wet. Fee is $3 per person or $5 per family. Registration is required. Please call (518) 584-2000 Ext. 116 to register.
LOCATION:Saratoga Spa State Park
UID:e.2254.10019
SEQUENCE:3
DTSTAMP:20260423T041130Z
URL:https://chamber.saratoga.org/events/details/creatures-of-geyser-creek-07-21-2015-10019
END:VEVENT

END:VCALENDAR
