BEGIN:VCALENDAR
VERSION:2.0
PRODID:-//ChamberMaster//Event Calendar 2.0//EN
METHOD:PUBLISH
X-PUBLISHED-TTL:P3D
REFRESH-INTERVAL:P3D
CALSCALE:GREGORIAN
BEGIN:VEVENT
DTSTART:20160519T230000Z
DTEND:20160520T010000Z
X-MICROSOFT-CDO-ALLDAYEVENT:FALSE
SUMMARY:Creative Spirits: ?Pinot Renoir? Paint and Sip
DESCRIPTION:Join us for a Pierre-Auguste Renoir themed painting experience. The Hyde is revolutionizing the classic painting and cocktail event by having participants explore a real three dimensional still life\, opposed to copying from a flat canvas! Our relaxed environment and experienced educators will guide you in an easy to follow\, step-by-step lesson towards becoming a true Impressionist artist. Experienced artists will also enjoy this event as a chance to hone their skill and strut their stuff. Do not miss this opportunity to de-stress\, and take home your own Renoir inspired canvas!
X-ALT-DESC;FMTTYPE=text/html:Join us for a Pierre-Auguste Renoir themed painting experience. The Hyde is revolutionizing the classic painting and cocktail event by having participants explore a real three dimensional still life\, opposed to copying from a flat canvas! Our relaxed environment and experienced educators will guide you in an easy to follow\, step-by-step lesson towards becoming a true Impressionist artist. Experienced artists will also enjoy this event as a chance to hone their skill and strut their stuff. Do not miss this opportunity to de-stress\, and take home your own Renoir inspired canvas!
LOCATION:The Hyde Collection 161 Warren St. Glens Falls\, NY 12801
UID:e.2254.16340
SEQUENCE:3
DTSTAMP:20260421T160620Z
URL:https://chamber.saratoga.org/events/details/creative-spirits-pinot-renoir-paint-and-sip-05-19-2016-16340
END:VEVENT

END:VCALENDAR
