BEGIN:VCALENDAR
VERSION:2.0
PRODID:-//ChamberMaster//Event Calendar 2.0//EN
METHOD:PUBLISH
X-PUBLISHED-TTL:P3D
REFRESH-INTERVAL:P3D
CALSCALE:GREGORIAN
BEGIN:VEVENT
DTSTART:20160324T230000Z
DTEND:20160325T010000Z
X-MICROSOFT-CDO-ALLDAYEVENT:FALSE
SUMMARY:Creative Spirits: "Illustrate Our Day"
DESCRIPTION:Join as we paint our hearts out and enjoy a healthy evening of drinks and snacks provided by the Juicin Jar of downtown Glens Falls. We will create an illustration in the style of Norman Rockwell as we copy one of his most famous works. This workshop will be led by Michael Coughlin\, museum educator at The Hyde. Michael's fun and light-hearted approach to painting will help you hone your skills\, while we eat from nature's table!
X-ALT-DESC;FMTTYPE=text/html:Join as we paint our hearts out and enjoy a healthy evening of drinks and snacks provided by the Juicin&nbsp\;Jar of downtown Glens Falls. We will create an illustration in the style of Norman Rockwell as we copy one of his most famous works. This workshop will be led by Michael Coughlin\, museum educator at The Hyde. Michael&#39\;s fun and light-hearted approach to painting will help you hone your skills\, while we eat from nature&#39\;s table!
LOCATION:THE HYDE COLLECTION 161 WARREN STREET . GLENS FALLS . NY. 12801
UID:e.2254.14873
SEQUENCE:3
DTSTAMP:20260422T003823Z
URL:https://chamber.saratoga.org/events/details/creative-spirits-illustrate-our-day-03-24-2016-14873
END:VEVENT

END:VCALENDAR
