BEGIN:VCALENDAR
VERSION:2.0
PRODID:-//ChamberMaster//Event Calendar 2.0//EN
METHOD:PUBLISH
X-PUBLISHED-TTL:P3D
REFRESH-INTERVAL:P3D
CALSCALE:GREGORIAN
BEGIN:VEVENT
DTSTART:20160507T130000Z
DTEND:20160507T200000Z
X-MICROSOFT-CDO-ALLDAYEVENT:FALSE
SUMMARY:Create Your Own Marshmallow Roaster with Steve Gurzler. #896-0507.
DESCRIPTION:Great for roasting marshmallows or even flipping your steak on the grill\, the process of making these roasters is also a great way to learn the basics of blacksmithing. In this class you will learn how to build a fire in the forge\, heat metal\, twist\, cut\, and bend while using the tools of the blacksmith. This class is open to all wanting to try their hands at blacksmithing and have some fun! Parents must accompany their children. NOTE: Hard shoes and long pants are required for student?s safety.
X-ALT-DESC;FMTTYPE=text/html:Great for roasting marshmallows or even flipping your steak on the grill\, the process of making these roasters is also a great way to learn the basics of blacksmithing. In this class you will learn how to build a fire in the forge\, heat metal\, twist\, cut\, and bend while using the tools of the blacksmith. This class is open to all wanting to try their hands at blacksmithing and have some fun! Parents must accompany their children. NOTE: Hard shoes and long pants are required for student?s safety.
LOCATION:Adirondack Folk School\, 51 Main Street\, Lake Luzerne\, NY 12846
UID:e.2254.15234
SEQUENCE:3
DTSTAMP:20260421T160753Z
URL:https://chamber.saratoga.org/events/details/create-your-own-marshmallow-roaster-with-steve-gurzler-896-0507-05-07-2016-15234
END:VEVENT

END:VCALENDAR
