BEGIN:VCALENDAR
VERSION:2.0
PRODID:-//ChamberMaster//Event Calendar 2.0//EN
METHOD:PUBLISH
X-PUBLISHED-TTL:P3D
REFRESH-INTERVAL:P3D
CALSCALE:GREGORIAN
BEGIN:VEVENT
DTSTART:20160823T150000Z
DTEND:20160823T220000Z
X-MICROSOFT-CDO-ALLDAYEVENT:FALSE
SUMMARY:County Waste Job Fair!
DESCRIPTION:
X-ALT-DESC;FMTTYPE=text/html:
LOCATION:County Waste Office 1927 Route 9 Clifton Park\, NY
UID:e.2254.18589
SEQUENCE:3
DTSTAMP:20260421T003247Z
URL:https://chamber.saratoga.org/events/details/county-waste-job-fair-08-23-2016-18589
END:VEVENT

END:VCALENDAR
